Package: weitrix Version: 1.19.0 Command: /home/biocbuild/R/R/bin/R CMD build --keep-empty-dirs --no-resave-data weitrix StartedAt: 2025-01-28 03:11:46 -0000 (Tue, 28 Jan 2025) EndedAt: 2025-01-28 03:26:21 -0000 (Tue, 28 Jan 2025) EllapsedTime: 875.3 seconds RetCode: 0 Status: OK PackageFile: weitrix_1.19.0.tar.gz PackageFileSize: 5.841 MiB