Package: weitrix Version: 1.19.0 Command: /home/biocbuild/R/R/bin/R CMD check --install=check:weitrix.install-out.txt --library=/home/biocbuild/R/R/site-library --no-vignettes --timings weitrix_1.19.0.tar.gz StartedAt: 2025-01-27 13:56:03 -0000 (Mon, 27 Jan 2025) EndedAt: 2025-01-27 14:03:18 -0000 (Mon, 27 Jan 2025) EllapsedTime: 435.3 seconds RetCode: 0 Status: OK CheckDir: weitrix.Rcheck Warnings: 0