Package: weitrix Version: 1.19.0 Command: /home/biocbuild/R/R/bin/R CMD INSTALL weitrix StartedAt: 2025-01-29 19:45:35 -0000 (Wed, 29 Jan 2025) EndedAt: 2025-01-29 19:46:12 -0000 (Wed, 29 Jan 2025) EllapsedTime: 37.0 seconds RetCode: 0 Status: OK