Package: weitrix Version: 1.19.0 Command: rm -rf weitrix.buildbin-libdir && mkdir weitrix.buildbin-libdir && /Users/biocbuild/BBS/utils/build-universal.sh weitrix_1.19.0.tar.gz /Library/Frameworks/R.framework/Resources/bin/R weitrix.buildbin-libdir StartedAt: 2025-02-10 01:22:22 -0500 (Mon, 10 Feb 2025) EndedAt: 2025-02-10 01:23:05 -0500 (Mon, 10 Feb 2025) EllapsedTime: 43.2 seconds RetCode: 0 Status: OK PackageFile: weitrix_1.19.0.tgz PackageFileSize: 9.251 MiB