Package: weitrix Version: 1.19.0 Command: /Library/Frameworks/R.framework/Resources/bin/R CMD INSTALL weitrix StartedAt: 2025-02-09 15:14:10 -0500 (Sun, 09 Feb 2025) EndedAt: 2025-02-09 15:14:48 -0500 (Sun, 09 Feb 2025) EllapsedTime: 37.7 seconds RetCode: 0 Status: OK