Package: weitrix Version: 1.19.0 Command: /home/biocbuild/bbs-3.21-bioc/R/bin/R CMD build --keep-empty-dirs --no-resave-data weitrix StartedAt: 2025-02-09 19:46:03 -0500 (Sun, 09 Feb 2025) EndedAt: 2025-02-09 19:54:29 -0500 (Sun, 09 Feb 2025) EllapsedTime: 506.2 seconds RetCode: 0 Status: OK PackageFile: weitrix_1.19.0.tar.gz PackageFileSize: 9.483 MiB