Package: weitrix Version: 1.19.0 Command: /home/biocbuild/bbs-3.21-bioc/R/bin/R CMD check --install=check:weitrix.install-out.txt --library=/home/biocbuild/bbs-3.21-bioc/R/site-library --timings weitrix_1.19.0.tar.gz StartedAt: 2025-02-04 03:51:50 -0500 (Tue, 04 Feb 2025) EndedAt: 2025-02-04 04:05:32 -0500 (Tue, 04 Feb 2025) EllapsedTime: 822.0 seconds RetCode: 0 Status: OK CheckDir: weitrix.Rcheck Warnings: 0