Package: weitrix Version: 1.19.0 Command: /home/biocbuild/bbs-3.21-bioc/R/bin/R CMD INSTALL weitrix StartedAt: 2025-02-09 15:55:42 -0500 (Sun, 09 Feb 2025) EndedAt: 2025-02-09 15:56:11 -0500 (Sun, 09 Feb 2025) EllapsedTime: 28.1 seconds RetCode: 0 Status: OK