Package: weitrix Version: 1.19.0 Command: rm -rf weitrix.buildbin-libdir && mkdir weitrix.buildbin-libdir && E:\biocbuild\bbs-3.21-bioc\R\bin\R.exe CMD INSTALL --build --library=weitrix.buildbin-libdir weitrix_1.19.0.tar.gz StartedAt: 2025-02-10 08:57:33 -0500 (Mon, 10 Feb 2025) EndedAt: 2025-02-10 08:58:21 -0500 (Mon, 10 Feb 2025) EllapsedTime: 47.5 seconds RetCode: 0 Status: OK PackageFile: weitrix_1.19.0.zip PackageFileSize: 5.599 MiB