Package: weitrix Version: 1.19.0 Command: chmod a+r weitrix -R && E:\biocbuild\bbs-3.21-bioc\R\bin\R.exe CMD build --keep-empty-dirs --no-resave-data weitrix StartedAt: 2025-02-04 22:20:56 -0500 (Tue, 04 Feb 2025) EndedAt: 2025-02-04 22:30:30 -0500 (Tue, 04 Feb 2025) EllapsedTime: 573.4 seconds RetCode: 0 Status: OK PackageFile: weitrix_1.19.0.tar.gz PackageFileSize: 5.31 MiB