Package: widgetTools Version: 1.85.0 Command: /Library/Frameworks/R.framework/Resources/bin/R CMD INSTALL widgetTools StartedAt: 2025-02-09 15:04:20 -0500 (Sun, 09 Feb 2025) EndedAt: 2025-02-09 15:05:04 -0500 (Sun, 09 Feb 2025) EllapsedTime: 44.4 seconds RetCode: 0 Status: OK