Package: widgetTools Version: 1.85.0 Command: /home/biocbuild/bbs-3.21-bioc/R/bin/R CMD build --keep-empty-dirs --no-resave-data widgetTools StartedAt: 2025-02-12 19:41:52 -0500 (Wed, 12 Feb 2025) EndedAt: 2025-02-12 19:41:59 -0500 (Wed, 12 Feb 2025) EllapsedTime: 7.0 seconds RetCode: 0 Status: OK PackageFile: widgetTools_1.85.0.tar.gz PackageFileSize: 227.4 KiB