Package: widgetTools Version: 1.85.0 Command: chmod a+r widgetTools -R && E:\biocbuild\bbs-3.21-bioc\R\bin\R.exe CMD build --keep-empty-dirs --no-resave-data widgetTools StartedAt: 2025-02-09 22:18:50 -0500 (Sun, 09 Feb 2025) EndedAt: 2025-02-09 22:19:19 -0500 (Sun, 09 Feb 2025) EllapsedTime: 28.7 seconds RetCode: 0 Status: OK PackageFile: widgetTools_1.85.0.tar.gz PackageFileSize: 126.3 KiB