Package: wpm Version: 1.17.0 Command: /home/biocbuild/bbs-3.21-bioc/R/bin/R CMD check --install=check:wpm.install-out.txt --library=/home/biocbuild/bbs-3.21-bioc/R/site-library --timings wpm_1.17.0.tar.gz StartedAt: 2025-02-13 03:46:27 -0500 (Thu, 13 Feb 2025) EndedAt: 2025-02-13 03:47:38 -0500 (Thu, 13 Feb 2025) EllapsedTime: 71.1 seconds RetCode: 0 Status: OK CheckDir: wpm.Rcheck Warnings: 0