Package: wpm Version: 1.17.0 Command: rm -rf wpm.buildbin-libdir && mkdir wpm.buildbin-libdir && E:\biocbuild\bbs-3.21-bioc\R\bin\R.exe CMD INSTALL --build --library=wpm.buildbin-libdir wpm_1.17.0.tar.gz StartedAt: 2025-02-10 08:57:39 -0500 (Mon, 10 Feb 2025) EndedAt: 2025-02-10 08:57:53 -0500 (Mon, 10 Feb 2025) EllapsedTime: 14.2 seconds RetCode: 0 Status: OK PackageFile: wpm_1.17.0.zip PackageFileSize: 1.806 MiB