Package: wpm Version: 1.17.0 Command: chmod a+r wpm -R && E:\biocbuild\bbs-3.21-bioc\R\bin\R.exe CMD build --keep-empty-dirs --no-resave-data wpm StartedAt: 2025-02-09 22:19:11 -0500 (Sun, 09 Feb 2025) EndedAt: 2025-02-09 22:19:46 -0500 (Sun, 09 Feb 2025) EllapsedTime: 35.7 seconds RetCode: 0 Status: OK PackageFile: wpm_1.17.0.tar.gz PackageFileSize: 2.287 MiB