Package: wpm Version: 1.17.0 Command: E:\biocbuild\bbs-3.21-bioc\R\bin\R.exe CMD INSTALL wpm StartedAt: 2025-02-09 16:16:31 -0500 (Sun, 09 Feb 2025) EndedAt: 2025-02-09 16:16:46 -0500 (Sun, 09 Feb 2025) EllapsedTime: 14.9 seconds RetCode: 0 Status: OK