Package: wppi Version: 1.15.0 Command: rm -rf wppi.buildbin-libdir && mkdir wppi.buildbin-libdir && /Users/biocbuild/BBS/utils/build-universal.sh wppi_1.15.0.tar.gz /Library/Frameworks/R.framework/Resources/bin/R wppi.buildbin-libdir StartedAt: 2025-01-31 22:36:46 -0500 (Fri, 31 Jan 2025) EndedAt: 2025-01-31 22:36:52 -0500 (Fri, 31 Jan 2025) EllapsedTime: 6.1 seconds RetCode: 0 Status: OK PackageFile: wppi_1.15.0.tgz PackageFileSize: 299.1 KiB