Package: wppi Version: 1.15.0 Command: /Library/Frameworks/R.framework/Resources/bin/R CMD build --keep-empty-dirs --no-resave-data wppi StartedAt: 2025-02-09 17:54:47 -0500 (Sun, 09 Feb 2025) EndedAt: 2025-02-09 17:55:11 -0500 (Sun, 09 Feb 2025) EllapsedTime: 23.3 seconds RetCode: 1 Status: ERROR PackageFile: None PackageFileSize: NA