Package: wppi Version: 1.15.0 Command: /Library/Frameworks/R.framework/Resources/bin/R CMD INSTALL wppi StartedAt: 2025-02-09 15:17:13 -0500 (Sun, 09 Feb 2025) EndedAt: 2025-02-09 15:17:19 -0500 (Sun, 09 Feb 2025) EllapsedTime: 6.5 seconds RetCode: 0 Status: OK