Package: wppi Version: 1.15.0 Command: rm -rf wppi.buildbin-libdir && mkdir wppi.buildbin-libdir && /Users/biocbuild/BBS/utils/build-universal.sh wppi_1.15.0.tar.gz /Library/Frameworks/R.framework/Resources/bin/R wppi.buildbin-libdir StartedAt: 2025-02-13 01:04:37 -0500 (Thu, 13 Feb 2025) EndedAt: 2025-02-13 01:04:58 -0500 (Thu, 13 Feb 2025) EllapsedTime: 20.8 seconds RetCode: 0 Status: OK PackageFile: wppi_1.15.0.tgz PackageFileSize: 297.8 KiB