Package: wppi Version: 1.15.0 Command: /home/biocbuild/bbs-3.21-bioc/R/bin/R CMD build --keep-empty-dirs --no-resave-data wppi StartedAt: 2025-02-09 19:46:18 -0500 (Sun, 09 Feb 2025) EndedAt: 2025-02-09 19:46:53 -0500 (Sun, 09 Feb 2025) EllapsedTime: 35.0 seconds RetCode: 1 Status: ERROR PackageFile: None PackageFileSize: NA