Package: wppi Version: 1.15.0 Command: /home/biocbuild/bbs-3.21-bioc/R/bin/R CMD check --install=check:wppi.install-out.txt --library=/home/biocbuild/bbs-3.21-bioc/R/site-library --timings wppi_1.15.0.tar.gz StartedAt: 2025-02-13 03:46:56 -0500 (Thu, 13 Feb 2025) EndedAt: 2025-02-13 03:53:48 -0500 (Thu, 13 Feb 2025) EllapsedTime: 412.3 seconds RetCode: 0 Status: OK CheckDir: wppi.Rcheck Warnings: 0