Package: wppi Version: 1.15.0 Command: rm -rf wppi.buildbin-libdir && mkdir wppi.buildbin-libdir && E:\biocbuild\bbs-3.21-bioc\R\bin\R.exe CMD INSTALL --build --library=wppi.buildbin-libdir wppi_1.15.0.tar.gz StartedAt: 2025-02-13 09:08:22 -0500 (Thu, 13 Feb 2025) EndedAt: 2025-02-13 09:08:48 -0500 (Thu, 13 Feb 2025) EllapsedTime: 25.7 seconds RetCode: 0 Status: OK PackageFile: wppi_1.15.0.zip PackageFileSize: 303.8 KiB