Package: xCell2 Version: 0.99.108 Command: rm -rf xCell2.buildbin-libdir && mkdir xCell2.buildbin-libdir && /Users/biocbuild/BBS/utils/build-universal.sh xCell2_0.99.108.tar.gz /Library/Frameworks/R.framework/Resources/bin/R xCell2.buildbin-libdir StartedAt: 2025-02-09 22:35:01 -0500 (Sun, 09 Feb 2025) EndedAt: 2025-02-09 22:35:17 -0500 (Sun, 09 Feb 2025) EllapsedTime: 16.3 seconds RetCode: 0 Status: OK PackageFile: xCell2_0.99.108.tgz PackageFileSize: 3.153 MiB