Package: xCell2 Version: 0.99.108 Command: /Library/Frameworks/R.framework/Resources/bin/R CMD check --install=check:xCell2.install-out.txt --library=/Library/Frameworks/R.framework/Resources/library --no-vignettes --timings xCell2_0.99.108.tar.gz StartedAt: 2025-02-09 21:57:28 -0500 (Sun, 09 Feb 2025) EndedAt: 2025-02-09 21:59:37 -0500 (Sun, 09 Feb 2025) EllapsedTime: 129.5 seconds RetCode: 0 Status: OK CheckDir: xCell2.Rcheck Warnings: 0