Package: xCell2 Version: 0.99.108 Command: /Library/Frameworks/R.framework/Resources/bin/R CMD INSTALL xCell2 StartedAt: 2025-02-09 15:16:40 -0500 (Sun, 09 Feb 2025) EndedAt: 2025-02-09 15:16:55 -0500 (Sun, 09 Feb 2025) EllapsedTime: 15.1 seconds RetCode: 0 Status: OK