Package: xCell2 Version: 0.99.108 Command: /Library/Frameworks/R.framework/Resources/bin/R CMD build --keep-empty-dirs --no-resave-data xCell2 StartedAt: 2025-02-09 18:51:26 -0500 (Sun, 09 Feb 2025) EndedAt: 2025-02-09 18:53:07 -0500 (Sun, 09 Feb 2025) EllapsedTime: 101.0 seconds RetCode: 0 Status: OK PackageFile: xCell2_0.99.108.tar.gz PackageFileSize: 3.074 MiB