Package: xCell2 Version: 0.99.108 Command: /Library/Frameworks/R.framework/Resources/bin/R CMD check --install=check:xCell2.install-out.txt --library=/Library/Frameworks/R.framework/Resources/library --no-vignettes --timings xCell2_0.99.108.tar.gz StartedAt: 2025-02-13 00:07:26 -0500 (Thu, 13 Feb 2025) EndedAt: 2025-02-13 00:13:05 -0500 (Thu, 13 Feb 2025) EllapsedTime: 339.2 seconds RetCode: 0 Status: OK CheckDir: xCell2.Rcheck Warnings: 0