Package: xCell2 Version: 0.99.108 Command: /home/biocbuild/bbs-3.21-bioc/R/bin/R CMD build --keep-empty-dirs --no-resave-data xCell2 StartedAt: 2025-02-12 19:42:19 -0500 (Wed, 12 Feb 2025) EndedAt: 2025-02-12 19:43:45 -0500 (Wed, 12 Feb 2025) EllapsedTime: 86.1 seconds RetCode: 0 Status: OK PackageFile: xCell2_0.99.108.tar.gz PackageFileSize: 3.098 MiB