Package: xCell2 Version: 0.99.108 Command: chmod a+r xCell2 -R && E:\biocbuild\bbs-3.21-bioc\R\bin\R.exe CMD build --keep-empty-dirs --no-resave-data xCell2 StartedAt: 2025-02-09 22:19:27 -0500 (Sun, 09 Feb 2025) EndedAt: 2025-02-09 22:21:26 -0500 (Sun, 09 Feb 2025) EllapsedTime: 118.3 seconds RetCode: 0 Status: OK PackageFile: xCell2_0.99.108.tar.gz PackageFileSize: 2.866 MiB