Package: xcms Version: 4.5.2 Command: /Library/Frameworks/R.framework/Resources/bin/R CMD check --install=check:xcms.install-out.txt --library=/Library/Frameworks/R.framework/Resources/library --no-vignettes --timings xcms_4.5.2.tar.gz StartedAt: 2025-02-09 21:57:33 -0500 (Sun, 09 Feb 2025) EndedAt: 2025-02-09 22:05:08 -0500 (Sun, 09 Feb 2025) EllapsedTime: 455.3 seconds RetCode: 0 Status: OK CheckDir: xcms.Rcheck Warnings: 0