Package: xcms Version: 4.5.2 Command: /Library/Frameworks/R.framework/Resources/bin/R CMD check --install=check:xcms.install-out.txt --library=/Library/Frameworks/R.framework/Resources/library --no-vignettes --timings xcms_4.5.2.tar.gz StartedAt: 2025-02-10 00:23:54 -0500 (Mon, 10 Feb 2025) EndedAt: 2025-02-10 00:40:58 -0500 (Mon, 10 Feb 2025) EllapsedTime: 1023.9 seconds RetCode: 0 Status: OK CheckDir: xcms.Rcheck Warnings: 0