Package: xcms Version: 4.5.2 Command: /Library/Frameworks/R.framework/Resources/bin/R CMD INSTALL xcms StartedAt: 2025-02-09 15:30:28 -0500 (Sun, 09 Feb 2025) EndedAt: 2025-02-09 15:32:43 -0500 (Sun, 09 Feb 2025) EllapsedTime: 134.5 seconds RetCode: 0 Status: OK