Package: xcms Version: 4.5.2 Command: /home/biocbuild/bbs-3.21-bioc/R/bin/R CMD build --keep-empty-dirs --no-resave-data xcms StartedAt: 2025-02-12 19:42:23 -0500 (Wed, 12 Feb 2025) EndedAt: 2025-02-12 19:46:54 -0500 (Wed, 12 Feb 2025) EllapsedTime: 271.3 seconds RetCode: 0 Status: OK PackageFile: xcms_4.5.2.tar.gz PackageFileSize: 9.433 MiB