Package: xcms Version: 4.5.2 Command: /home/biocbuild/bbs-3.21-bioc/R/bin/R CMD INSTALL xcms StartedAt: 2025-02-12 15:37:01 -0500 (Wed, 12 Feb 2025) EndedAt: 2025-02-12 15:38:38 -0500 (Wed, 12 Feb 2025) EllapsedTime: 97.1 seconds RetCode: 0 Status: OK