Package: xcms Version: 4.5.2 Command: chmod a+r xcms -R && E:\biocbuild\bbs-3.21-bioc\R\bin\R.exe CMD build --keep-empty-dirs --no-resave-data xcms StartedAt: 2025-02-04 22:21:42 -0500 (Tue, 04 Feb 2025) EndedAt: 2025-02-04 22:28:29 -0500 (Tue, 04 Feb 2025) EllapsedTime: 406.4 seconds RetCode: 0 Status: OK PackageFile: xcms_4.5.2.tar.gz PackageFileSize: 4.36 MiB