Package: xcore Version: 1.11.0 Command: /Library/Frameworks/R.framework/Resources/bin/R CMD build --keep-empty-dirs --no-resave-data xcore StartedAt: 2025-02-09 17:54:58 -0500 (Sun, 09 Feb 2025) EndedAt: 2025-02-09 17:55:37 -0500 (Sun, 09 Feb 2025) EllapsedTime: 38.5 seconds RetCode: 0 Status: OK PackageFile: xcore_1.11.0.tar.gz PackageFileSize: 2.407 MiB