Package: xcore Version: 1.11.0 Command: /Library/Frameworks/R.framework/Resources/bin/R CMD check --install=check:xcore.install-out.txt --library=/Library/Frameworks/R.framework/Resources/library --no-vignettes --timings xcore_1.11.0.tar.gz StartedAt: 2025-02-09 21:57:41 -0500 (Sun, 09 Feb 2025) EndedAt: 2025-02-09 22:01:09 -0500 (Sun, 09 Feb 2025) EllapsedTime: 208.5 seconds RetCode: 0 Status: OK CheckDir: xcore.Rcheck Warnings: 0