Package: xcore Version: 1.11.0 Command: /Library/Frameworks/R.framework/Resources/bin/R CMD INSTALL xcore StartedAt: 2025-02-09 15:19:56 -0500 (Sun, 09 Feb 2025) EndedAt: 2025-02-09 15:20:06 -0500 (Sun, 09 Feb 2025) EllapsedTime: 9.8 seconds RetCode: 0 Status: OK