Package: xcore Version: 1.11.0 Command: /Library/Frameworks/R.framework/Resources/bin/R CMD check --install=check:xcore.install-out.txt --library=/Library/Frameworks/R.framework/Resources/library --no-vignettes --timings xcore_1.11.0.tar.gz StartedAt: 2025-02-10 00:24:05 -0500 (Mon, 10 Feb 2025) EndedAt: 2025-02-10 00:31:10 -0500 (Mon, 10 Feb 2025) EllapsedTime: 424.2 seconds RetCode: 0 Status: OK CheckDir: xcore.Rcheck Warnings: 0