Package: xcore Version: 1.11.0 Command: /home/biocbuild/bbs-3.21-bioc/R/bin/R CMD check --install=check:xcore.install-out.txt --library=/home/biocbuild/bbs-3.21-bioc/R/site-library --timings xcore_1.11.0.tar.gz StartedAt: 2025-02-04 03:53:44 -0500 (Tue, 04 Feb 2025) EndedAt: 2025-02-04 04:02:26 -0500 (Tue, 04 Feb 2025) EllapsedTime: 522.1 seconds RetCode: 0 Status: OK CheckDir: xcore.Rcheck Warnings: 0