Package: xcore Version: 1.11.0 Command: /home/biocbuild/bbs-3.21-bioc/R/bin/R CMD INSTALL xcore StartedAt: 2025-02-03 15:28:51 -0500 (Mon, 03 Feb 2025) EndedAt: 2025-02-03 15:29:14 -0500 (Mon, 03 Feb 2025) EllapsedTime: 23.7 seconds RetCode: 0 Status: OK