Package: xcore Version: 1.11.0 Command: rm -rf xcore.buildbin-libdir && mkdir xcore.buildbin-libdir && E:\biocbuild\bbs-3.21-bioc\R\bin\R.exe CMD INSTALL --build --library=xcore.buildbin-libdir xcore_1.11.0.tar.gz StartedAt: 2025-02-06 09:18:14 -0500 (Thu, 06 Feb 2025) EndedAt: 2025-02-06 09:18:47 -0500 (Thu, 06 Feb 2025) EllapsedTime: 32.7 seconds RetCode: 0 Status: OK PackageFile: xcore_1.11.0.zip PackageFileSize: 1.84 MiB