Package: xcore Version: 1.11.0 Command: chmod a+r xcore -R && E:\biocbuild\bbs-3.21-bioc\R\bin\R.exe CMD build --keep-empty-dirs --no-resave-data xcore StartedAt: 2025-02-03 22:32:09 -0500 (Mon, 03 Feb 2025) EndedAt: 2025-02-03 22:34:12 -0500 (Mon, 03 Feb 2025) EllapsedTime: 122.5 seconds RetCode: 0 Status: OK PackageFile: xcore_1.11.0.tar.gz PackageFileSize: 2.333 MiB