Package: xmapbridge Version: 1.65.0 Command: chmod a+r xmapbridge -R && E:\biocbuild\bbs-3.21-bioc\R\bin\R.exe CMD build --keep-empty-dirs --no-resave-data xmapbridge StartedAt: 2025-02-12 22:27:47 -0500 (Wed, 12 Feb 2025) EndedAt: 2025-02-12 22:29:02 -0500 (Wed, 12 Feb 2025) EllapsedTime: 74.6 seconds RetCode: 0 Status: OK PackageFile: xmapbridge_1.65.0.tar.gz PackageFileSize: 2.903 MiB