Package: yamss Version: 1.33.0 Command: /Library/Frameworks/R.framework/Resources/bin/R CMD build --keep-empty-dirs --no-resave-data yamss StartedAt: 2025-02-12 17:56:25 -0500 (Wed, 12 Feb 2025) EndedAt: 2025-02-12 17:57:17 -0500 (Wed, 12 Feb 2025) EllapsedTime: 51.7 seconds RetCode: 0 Status: OK PackageFile: yamss_1.33.0.tar.gz PackageFileSize: 424.6 KiB