Package: yamss Version: 1.33.0 Command: /home/biocbuild/R/R/bin/R CMD INSTALL yamss StartedAt: 2025-01-29 20:05:13 -0000 (Wed, 29 Jan 2025) EndedAt: 2025-01-29 20:05:51 -0000 (Wed, 29 Jan 2025) EllapsedTime: 38.2 seconds RetCode: 0 Status: OK