Package: yamss Version: 1.33.0 Command: /Library/Frameworks/R.framework/Resources/bin/R CMD check --install=check:yamss.install-out.txt --library=/Library/Frameworks/R.framework/Resources/library --no-vignettes --timings yamss_1.33.0.tar.gz StartedAt: 2025-02-10 00:24:57 -0500 (Mon, 10 Feb 2025) EndedAt: 2025-02-10 00:28:54 -0500 (Mon, 10 Feb 2025) EllapsedTime: 237.2 seconds RetCode: 0 Status: OK CheckDir: yamss.Rcheck Warnings: 0