Package: yamss Version: 1.33.0 Command: /home/biocbuild/bbs-3.21-bioc/R/bin/R CMD INSTALL yamss StartedAt: 2025-02-12 15:22:44 -0500 (Wed, 12 Feb 2025) EndedAt: 2025-02-12 15:23:12 -0500 (Wed, 12 Feb 2025) EllapsedTime: 27.3 seconds RetCode: 0 Status: OK